BEGIN:VCALENDAR
VERSION:2.0
PRODID:-//wp-events-plugin.com//7.2.3.1//EN
TZID:America/New_York
X-WR-TIMEZONE:America/New_York
BEGIN:VEVENT
UID:240@uusaratoga.org
DTSTART;TZID=America/New_York:20241217T190000
DTEND;TZID=America/New_York:20241217T210000
DTSTAMP:20241113T183303Z
URL:https://uusaratoga.org/events/lgbtq-support-group/
SUMMARY:LGBTQ+ Support group
DESCRIPTION:
ATTACH;FMTTYPE=image/jpeg:https://uusaratoga.org/wp-content/uploads/2024/1
 1/GettyImages-177351937-e1731522769730.webp
END:VEVENT
BEGIN:VTIMEZONE
TZID:America/New_York
X-LIC-LOCATION:America/New_York
BEGIN:STANDARD
DTSTART:20241103T010000
TZOFFSETFROM:-0400
TZOFFSETTO:-0500
TZNAME:EST
END:STANDARD
END:VTIMEZONE
END:VCALENDAR